BEGIN:VCALENDAR
VERSION:2.0
PRODID:-//Tukios.com/
BEGIN:VEVENT
UID:54f728a9-78f4-4b16-b9b6-b8715e348dff@www.countrysidefuneralhomes.com
DTSTAMP:20260423T190100Z
DTSTART:20260424T220000Z
DTEND:20260425T010000Z
SUMMARY:Visitation
DESCRIPTION:
URL:https://www.countrysidefuneralhomes.com/obituaries/zbigniew-agolcer
LOCATION:Countryside Funeral Home and Crematory of Bartlett 950 S 
	Bartlett Rd  Bartlett IL 60103
GEO:41.9721943;-88.1844789
END:VEVENT
END:VCALENDAR