BEGIN:VCALENDAR
VERSION:2.0
PRODID:-//Tukios.com/
BEGIN:VEVENT
UID:24242723-9a76-4f19-8fed-547338fd79c0@www.countrysidefuneralhomes.com
DTSTAMP:20260423T190121Z
DTSTART:20260424T233000Z
DTEND:20260425T003000Z
SUMMARY:Funeral Service
DESCRIPTION:
URL:https://www.countrysidefuneralhomes.com/obituaries/zbigniew-agolcer
LOCATION:Countryside Funeral Home and Crematory of Bartlett 950 S 
	Bartlett Rd  Bartlett IL 60103
GEO:41.9721943;-88.1844789
END:VEVENT
END:VCALENDAR