BEGIN:VCALENDAR
VERSION:2.0
PRODID:-//Tukios.com/
BEGIN:VEVENT
UID:6ae60959-7076-4131-9edf-c2b4bca59443@www.countrysidefuneralhomes.com
DTSTAMP:20260425T025650Z
DTSTART:20260429T160000Z
DTEND:20260429T170000Z
SUMMARY:Funeral Service
DESCRIPTION:
URL:https://www.countrysidefuneralhomes.com/obituaries/richard-holmes
LOCATION:Roselle United Methodist Church 206 Rush Street  Roselle IL 
	60172
GEO:41.9791902;-88.0744364
END:VEVENT
END:VCALENDAR