BEGIN:VCALENDAR
VERSION:2.0
PRODID:-//Tukios.com/
BEGIN:VEVENT
UID:1e42921d-6523-417a-885b-b30b0bdce4dc@www.countrysidefuneralhomes.com
DTSTAMP:20260425T025114Z
DTSTART:20260429T150000Z
DTEND:20260429T160000Z
SUMMARY:Visitation
DESCRIPTION:
URL:https://www.countrysidefuneralhomes.com/obituaries/richard-holmes
LOCATION:Roselle United Methodist Church 206 Rush Street  Roselle IL 
	60172
GEO:41.9791902;-88.0744364
END:VEVENT
END:VCALENDAR