BEGIN:VCALENDAR
VERSION:2.0
PRODID:-//Tukios.com/
BEGIN:VEVENT
UID:b9225f1c-461c-4d70-adf6-3a6608afeaad@www.countrysidefuneralhomes.com
DTSTAMP:20260423T030242Z
DTSTART:20260427T173000Z
DTEND:20260427T174500Z
SUMMARY:Burial
DESCRIPTION:
URL:https://www.countrysidefuneralhomes.com/obituaries/karen-sutherland
LOCATION:Ridgewood Memorial Park    Des Plaines IL 
GEO:42.0333623;-87.8833991
END:VEVENT
END:VCALENDAR