BEGIN:VCALENDAR
VERSION:2.0
PRODID:-//Tukios.com/
BEGIN:VEVENT
UID:2d402b66-aca7-439a-a06c-48cfaf43623d@www.countrysidefuneralhomes.com
DTSTAMP:20260423T185335Z
DTSTART:20260427T180000Z
DTEND:20260427T182000Z
SUMMARY:Burial
DESCRIPTION:
URL:https://www.countrysidefuneralhomes.com/obituaries/jerry-floyd
LOCATION:Lakewood Memorial Park 30W730 US-20  Elgin IL 60120
GEO:42.0168108;-88.2211645
END:VEVENT
END:VCALENDAR