BEGIN:VCALENDAR
VERSION:2.0
PRODID:-//Tukios.com/
BEGIN:VEVENT
UID:e679426e-7750-4738-9877-6516352a53d4@www.countrysidefuneralhomes.com
DTSTAMP:20260423T185654Z
DTSTART:20260427T160000Z
DTEND:20260427T170000Z
SUMMARY:Funeral Service
DESCRIPTION:
URL:https://www.countrysidefuneralhomes.com/obituaries/jerry-floyd
LOCATION:Bethel Baptist Church 200 North Roselle Road  Schaumburg IL 
	60194
GEO:42.032042;-88.0810686
END:VEVENT
END:VCALENDAR