BEGIN:VCALENDAR
VERSION:2.0
PRODID:-//Tukios.com/
BEGIN:VEVENT
UID:d9c04ba9-27f9-4119-837e-04b8bae5be81@www.countrysidefuneralhomes.com
DTSTAMP:20260423T190121Z
DTSTART:20260427T150000Z
DTEND:20260427T160000Z
SUMMARY:Visitation
DESCRIPTION:
URL:https://www.countrysidefuneralhomes.com/obituaries/jerry-floyd
LOCATION:Bethel Baptist Church 200 North Roselle Road  Schaumburg IL 
	60194
GEO:42.032042;-88.0810686
END:VEVENT
END:VCALENDAR