BEGIN:VCALENDAR
VERSION:2.0
PRODID:-//Tukios.com/
BEGIN:VEVENT
UID:315ab733-2a35-4f19-8e3f-8328b6bbe4ba@www.countrysidefuneralhomes.com
DTSTAMP:20260420T183340Z
DTSTART:20260424T170000Z
DTEND:20260424T180000Z
SUMMARY:Interment
DESCRIPTION:
URL:https://www.countrysidefuneralhomes.com/obituaries/frank-telles
LOCATION:St. Adalbert Cemetery 6800 N Milwaukee Ave  Niles IL 60714
GEO:42.0055578;-87.7962756
END:VEVENT
END:VCALENDAR