BEGIN:VCALENDAR
VERSION:2.0
PRODID:-//Tukios.com/
BEGIN:VEVENT
UID:09b10d68-6f8a-49ca-a9ca-7e306e13066f@www.countrysidefuneralhomes.com
DTSTAMP:20260420T183734Z
DTSTART:20260423T210000Z
DTEND:20260424T010000Z
SUMMARY:Visitation
DESCRIPTION:
URL:https://www.countrysidefuneralhomes.com/obituaries/frank-telles
LOCATION:Countryside Funeral Home and Crematory of Roselle 333 S Roselle 
	Rd  Roselle IL 60172
GEO:41.9768609;-88.0796299
END:VEVENT
END:VCALENDAR