BEGIN:VCALENDAR
VERSION:2.0
PRODID:-//Tukios.com/
BEGIN:VEVENT
UID:2483428b-834c-4937-98f1-7a1790b87091@www.countrysidefuneralhomes.com
DTSTAMP:20260420T183433Z
DTSTART:20260424T150000Z
DTEND:20260424T160000Z
SUMMARY:Funeral Mass
DESCRIPTION:
URL:https://www.countrysidefuneralhomes.com/obituaries/frank-telles
LOCATION:St. Walter Catholic Church 130 West Pine Avenue  Roselle IL 
	60172
GEO:41.9800816;-88.0848973
END:VEVENT
END:VCALENDAR