BEGIN:VCALENDAR
VERSION:2.0
PRODID:-//Tukios.com/
BEGIN:VEVENT
UID:4c5d7135-5199-4f5c-9503-0fb76ae18ed8@www.countrysidefuneralhomes.com
DTSTAMP:20260426T021532Z
DTSTART:20260429T150000Z
DTEND:20260429T160000Z
SUMMARY:Funeral Mass
DESCRIPTION:
URL:https://www.countrysidefuneralhomes.com/obituaries/emma-mercado-guevara
LOCATION:St. Walter Catholic Church 130 West Pine Avenue  Roselle IL 
	60172
GEO:41.9800816;-88.0848973
END:VEVENT
END:VCALENDAR