BEGIN:VCALENDAR
VERSION:2.0
PRODID:-//Tukios.com/
BEGIN:VEVENT
UID:77cc6287-2fe5-44f2-a5ca-ab3c919464d7@www.countrysidefuneralhomes.com
DTSTAMP:20260426T020810Z
DTSTART:20260429T123000Z
DTEND:20260429T143000Z
SUMMARY:Visitation
DESCRIPTION:
URL:https://www.countrysidefuneralhomes.com/obituaries/emma-mercado-guevara
LOCATION:Countryside Funeral Home and Crematory of Roselle 333 S Roselle 
	Rd  Roselle IL 60172
GEO:41.9768609;-88.0796299
END:VEVENT
END:VCALENDAR