BEGIN:VCALENDAR
VERSION:2.0
PRODID:-//Tukios.com/
BEGIN:VEVENT
UID:30cdddd3-9c4f-4502-83dd-ee41abffc40e@www.countrysidefuneralhomes.com
DTSTAMP:20260425T033515Z
DTSTART:20260501T200000Z
DTEND:20260502T020000Z
SUMMARY:Visitation
DESCRIPTION:
URL:https://www.countrysidefuneralhomes.com/obituaries/darlene-rajewski
LOCATION:Countryside Funeral Home and Crematory of Roselle 333 S Roselle 
	Rd  Roselle IL 60172
GEO:41.9768609;-88.0796299
END:VEVENT
END:VCALENDAR