BEGIN:VCALENDAR
VERSION:2.0
PRODID:-//Tukios.com/
BEGIN:VEVENT
UID:f1e9722b-853b-471e-a986-d878d3c8af2a@www.countrysidefuneralhomes.com
DTSTAMP:20260422T022939Z
DTSTART:20260502T140000Z
DTEND:20260502T153000Z
SUMMARY:Visitation
DESCRIPTION:
URL:https://www.countrysidefuneralhomes.com/obituaries/beverly-petges
LOCATION:Countryside Funeral Home and Crematory of Roselle 333 S Roselle 
	Rd  Roselle IL 60172
GEO:41.9768609;-88.0796299
END:VEVENT
END:VCALENDAR