BEGIN:VCALENDAR
VERSION:2.0
PRODID:-//Tukios.com/
BEGIN:VEVENT
UID:bb66d8a6-0ff4-449e-bbf1-90276f8124ad@www.countrysidefuneralhomes.com
DTSTAMP:20260422T022447Z
DTSTART:20260502T153000Z
DTEND:20260502T163000Z
SUMMARY:Funeral Service
DESCRIPTION:
URL:https://www.countrysidefuneralhomes.com/obituaries/beverly-petges
LOCATION:Countryside Funeral Home and Crematory of Roselle 333 S Roselle 
	Rd  Roselle IL 60172
GEO:41.9768609;-88.0796299
END:VEVENT
END:VCALENDAR